BEGIN:VCALENDAR
VERSION:2.0
PRODID:-//Tukios.com/
BEGIN:VEVENT
UID:f361a235-f754-4d9a-a79a-00725ac8dfc6@www.eternityfuneralservices.net
DTSTAMP:20260424T032252Z
DTSTART:20260503T160000Z
DTEND:20260503T180000Z
SUMMARY:Memorial Service
DESCRIPTION:
URL:https://www.eternityfuneralservices.net/obituaries/orlene-ellis
LOCATION: 23 E 2nd St  Mt Vernon NY 10550
GEO:40.9096099;-73.8348447
END:VEVENT
END:VCALENDAR