BEGIN:VCALENDAR
VERSION:2.0
PRODID:-//Tukios.com/
BEGIN:VEVENT
UID:699be7e2-cc45-4d9c-8aeb-8a3f78b69c9a@www.eternityfuneralservices.net
DTSTAMP:20260422T055512Z
DTSTART:20260509
SUMMARY:Burial
DESCRIPTION:
URL:https://www.eternityfuneralservices.net/obituaries/karen-green
LOCATION: 273 Lakeview Ave  Valhalla NY 10595
GEO:41.0735726;-73.7891055
END:VEVENT
END:VCALENDAR