BEGIN:VCALENDAR
VERSION:2.0
PRODID:-//Tukios.com/
BEGIN:VEVENT
UID:b581afef-d22b-45cc-919b-6053bc22d895@www.eternityfuneralservices.net
DTSTAMP:20260422T055043Z
DTSTART:20260509T140000Z
DTEND:20260509T150000Z
SUMMARY:Service
DESCRIPTION:
URL:https://www.eternityfuneralservices.net/obituaries/karen-green
LOCATION: 3154 Fish Ave  Bronx NY 10469
GEO:40.8712723;-73.8470361
END:VEVENT
END:VCALENDAR