BEGIN:VCALENDAR
VERSION:2.0
PRODID:-//Tukios.com/
BEGIN:VEVENT
UID:54dcb486-f8ba-4a40-9a92-8ccbd38c03b9@www.eternityfuneralservices.net
DTSTAMP:20260422T054338Z
DTSTART:20260509T130000Z
DTEND:20260509T140000Z
SUMMARY:Visitation
DESCRIPTION:
URL:https://www.eternityfuneralservices.net/obituaries/karen-green
LOCATION:Eastchester Presbyterian Church 3154 Fish Ave  Bronx NY 10469
GEO:40.8712723;-73.8470361
END:VEVENT
END:VCALENDAR