BEGIN:VCALENDAR
VERSION:2.0
PRODID:-//Tukios.com/
BEGIN:VEVENT
UID:b2e4e691-9849-4073-866e-3c94c15a815b@www.eternityfuneralservices.net
DTSTAMP:20260424T025548Z
DTSTART:20260518T133000Z
DTEND:20260518T143000Z
SUMMARY:Burial
DESCRIPTION:Meeting at:

Eternity Funeral Services
23 East 2nd 
	Street
Mount Vernon, NY 10550
URL:https://www.eternityfuneralservices.net/obituaries/joyce-clarke
LOCATION: 273 Lakeview Ave  Valhalla NY 10595
GEO:41.0735726;-73.7891055
END:VEVENT
END:VCALENDAR