BEGIN:VCALENDAR
VERSION:2.0
PRODID:-//Tukios.com/
BEGIN:VEVENT
UID:5e6a0239-2c0b-4d69-b796-f5412b61ff47@www.eternityfuneralservices.net
DTSTAMP:20260424T025927Z
DTSTART:20260517T200000Z
DTEND:20260517T210000Z
SUMMARY:Service
DESCRIPTION:
URL:https://www.eternityfuneralservices.net/obituaries/joyce-clarke
LOCATION: 3450 Eastchester Rd  Bronx NY 10469
GEO:40.8781336;-73.8465637
END:VEVENT
END:VCALENDAR