BEGIN:VCALENDAR
VERSION:2.0
PRODID:-//Tukios.com/
BEGIN:VEVENT
UID:e59f579c-bea1-4ace-bd24-57cb3aa291cf@www.eternityfuneralservices.net
DTSTAMP:20260424T025548Z
DTSTART:20260517T190000Z
DTEND:20260517T200000Z
SUMMARY:Visitation
DESCRIPTION:
URL:https://www.eternityfuneralservices.net/obituaries/joyce-clarke
LOCATION:Emmanuel Seventh Day Adventist Church 3450 Eastchester Rd  Bronx 
	NY 10469
GEO:40.8781336;-73.8465637
END:VEVENT
END:VCALENDAR