BEGIN:VCALENDAR
VERSION:2.0
PRODID:-//Tukios.com/
BEGIN:VEVENT
UID:9fdff13d-f3c0-482c-b8ba-51e384656689@www.eternityfuneralservices.net
DTSTAMP:20260424T032258Z
DTSTART:20260501
SUMMARY:Burial
DESCRIPTION:
URL:https://www.eternityfuneralservices.net/obituaries/gladys-garland
LOCATION: 167 North Broadway  White Plains NY 10603
GEO:41.0462494;-73.7700084
END:VEVENT
END:VCALENDAR