BEGIN:VCALENDAR
VERSION:2.0
PRODID:-//Tukios.com/
BEGIN:VEVENT
UID:99e70d21-fdcc-4d39-821d-c264abaed626@www.eternityfuneralservices.net
DTSTAMP:20260424T032251Z
DTSTART:20260501T140000Z
DTEND:20260501T150000Z
SUMMARY:Service
DESCRIPTION:
URL:https://www.eternityfuneralservices.net/obituaries/gladys-garland
LOCATION: 23 E 2nd St  Mt Vernon NY 10550
GEO:40.9096099;-73.8348447
END:VEVENT
END:VCALENDAR