BEGIN:VCALENDAR
VERSION:2.0
PRODID:-//Tukios.com/
BEGIN:VEVENT
UID:9df63298-f9f5-4301-8faf-dcdf28c0de4b@www.eternityfuneralservices.net
DTSTAMP:20260422T035834Z
DTSTART:20260503
SUMMARY:Burial
DESCRIPTION:
URL:https://www.eternityfuneralservices.net/obituaries/daphne-seaton
LOCATION: 273 Lakeview Ave  Valhalla NY 10595
GEO:41.0735726;-73.7891055
END:VEVENT
END:VCALENDAR