BEGIN:VCALENDAR
VERSION:2.0
PRODID:-//Tukios.com/
BEGIN:VEVENT
UID:448de951-a6c8-45b5-a7c7-0efab69976e2@www.eternityfuneralservices.net
DTSTAMP:20260422T035603Z
DTSTART:20260503T140000Z
DTEND:20260503T150000Z
SUMMARY:Visitation
DESCRIPTION:
URL:https://www.eternityfuneralservices.net/obituaries/daphne-seaton
LOCATION: 1271 Burke Avenue  Bronx NY 10469
GEO:40.8715606;-73.8501306
END:VEVENT
END:VCALENDAR