BEGIN:VCALENDAR
VERSION:2.0
PRODID:-//Tukios.com/
BEGIN:VEVENT
UID:bb8c376e-ff55-46ed-87a3-2cfa7d344a05@www.eternityfuneralservices.net
DTSTAMP:20260422T035351Z
DTSTART:20260503T130000Z
DTEND:20260503T140000Z
SUMMARY:Service
DESCRIPTION:
URL:https://www.eternityfuneralservices.net/obituaries/daphne-seaton
LOCATION: 1271 Burke Avenue  Bronx NY 10469
GEO:40.8715606;-73.8501306
END:VEVENT
END:VCALENDAR