BEGIN:VCALENDAR
VERSION:2.0
PRODID:-//Tukios.com/
BEGIN:VEVENT
UID:f1ef7e84-30b1-4f0d-b92d-771c89ab69f1@www.eternityfuneralservices.net
DTSTAMP:20260424T025425Z
DTSTART:20260502
SUMMARY:Burial
DESCRIPTION:
URL:https://www.eternityfuneralservices.net/obituaries/blossom-reid-davis
LOCATION: 2 Saw Mill River Rd  Yonkers NY 10701
GEO:40.938975;-73.880315
END:VEVENT
END:VCALENDAR