BEGIN:VCALENDAR
VERSION:2.0
PRODID:-//Tukios.com/
BEGIN:VEVENT
UID:0c855c70-bf7f-47f8-a088-c395284a5db7@www.eternityfuneralservices.net
DTSTAMP:20260424T025915Z
DTSTART:20260502T120000Z
DTEND:20260502T130000Z
SUMMARY:Service
DESCRIPTION:
URL:https://www.eternityfuneralservices.net/obituaries/blossom-reid-davis
LOCATION:United Church of Jesus Christ 3936 Bronxwood Ave  Bronx NY 10466
GEO:40.8849486;-73.8549088
END:VEVENT
END:VCALENDAR